BEGIN:VCALENDAR
VERSION:2.0
PRODID:-//East Tennessee Mogul Mashers Ski Club - ECPv6.15.20//NONSGML v1.0//EN
CALSCALE:GREGORIAN
METHOD:PUBLISH
X-WR-CALNAME:East Tennessee Mogul Mashers Ski Club
X-ORIGINAL-URL:http://etmm.net
X-WR-CALDESC:Events for East Tennessee Mogul Mashers Ski Club
REFRESH-INTERVAL;VALUE=DURATION:PT1H
X-Robots-Tag:noindex
X-PUBLISHED-TTL:PT1H
BEGIN:VTIMEZONE
TZID:UTC
BEGIN:STANDARD
TZOFFSETFROM:+0000
TZOFFSETTO:+0000
TZNAME:UTC
DTSTART:20210101T000000
END:STANDARD
END:VTIMEZONE
BEGIN:VEVENT
DTSTART;TZID=UTC:20221203T080000
DTEND;TZID=UTC:20221210T170000
DTSTAMP:20260422T125212
CREATED:20220313T171225Z
LAST-MODIFIED:20220313T171225Z
UID:4591-1670054400-1670691600@etmm.net
SUMMARY:Steamboat Springs\, CO 2022 Trip
DESCRIPTION:An annual favorite trip for many Crescent and ETMM members is scheduled for Dec 3-10\, 2022 which will kick off the 2022-2023 ski season.  This is the 39th anniversary of CSC visiting Steamboat.  The trip is for skiers and boarders of all skill levels and is a great way to improve your skiing and/or racing ability.  The trip includes week long lessons organized specifically for Crescent which has classes from the beginner to the expert levels who want to learn to ski/board or just hone their skills.  Pricing and more details available in the summer 2022.
URL:http://etmm.net/event/steamboat-springs-co-2022-trip/
LOCATION:Steamboat Colorado\, Steamboat Springs\, CO\, United States
CATEGORIES:Ski Trip
END:VEVENT
END:VCALENDAR